BEGIN:VCALENDAR
VERSION:2.0
PRODID:-//Gymnasial-Turn-Ruder-Verein Neuwied (GTRVN) - ECPv6.15.20//NONSGML v1.0//EN
CALSCALE:GREGORIAN
METHOD:PUBLISH
X-WR-CALNAME:Gymnasial-Turn-Ruder-Verein Neuwied (GTRVN)
X-ORIGINAL-URL:https://gtrvn.de
X-WR-CALDESC:Veranstaltungen für Gymnasial-Turn-Ruder-Verein Neuwied (GTRVN)
REFRESH-INTERVAL;VALUE=DURATION:PT1H
X-Robots-Tag:noindex
X-PUBLISHED-TTL:PT1H
BEGIN:VTIMEZONE
TZID:Europe/Berlin
BEGIN:DAYLIGHT
TZOFFSETFROM:+0100
TZOFFSETTO:+0200
TZNAME:CEST
DTSTART:20250330T010000
END:DAYLIGHT
BEGIN:STANDARD
TZOFFSETFROM:+0200
TZOFFSETTO:+0100
TZNAME:CET
DTSTART:20251026T010000
END:STANDARD
BEGIN:DAYLIGHT
TZOFFSETFROM:+0100
TZOFFSETTO:+0200
TZNAME:CEST
DTSTART:20260329T010000
END:DAYLIGHT
BEGIN:STANDARD
TZOFFSETFROM:+0200
TZOFFSETTO:+0100
TZNAME:CET
DTSTART:20261025T010000
END:STANDARD
BEGIN:DAYLIGHT
TZOFFSETFROM:+0100
TZOFFSETTO:+0200
TZNAME:CEST
DTSTART:20270328T010000
END:DAYLIGHT
BEGIN:STANDARD
TZOFFSETFROM:+0200
TZOFFSETTO:+0100
TZNAME:CET
DTSTART:20271031T010000
END:STANDARD
END:VTIMEZONE
BEGIN:VEVENT
DTSTART;VALUE=DATE:20260424
DTEND;VALUE=DATE:20260426
DTSTAMP:20260424T031854
CREATED:20251121T164831Z
LAST-MODIFIED:20260302T132839Z
UID:4207-1776988800-1777161599@gtrvn.de
SUMMARY:Schnupperkurs 2026 für Erwachsene
DESCRIPTION:Details zum Schnupperkurs 2026 !
URL:https://gtrvn.de/event/schnupperkurs-2025-fuer-erwachsene/
LOCATION:Bootshaus Neuwied\, Rheinstraße 54\, 56564 Neuwied\, Rheinland-Pfalz\, 56564\, Germany
ORGANIZER;CN="Uli Gro%C3%9F":MAILTO:ulrich.groß@gtrvn.de
END:VEVENT
END:VCALENDAR