BEGIN:VCALENDAR
VERSION:2.0
PRODID:-//Gymnasial-Turn-Ruder-Verein Neuwied (GTRVN) - ECPv6.15.20//NONSGML v1.0//EN
CALSCALE:GREGORIAN
METHOD:PUBLISH
X-WR-CALNAME:Gymnasial-Turn-Ruder-Verein Neuwied (GTRVN)
X-ORIGINAL-URL:https://gtrvn.de
X-WR-CALDESC:Veranstaltungen für Gymnasial-Turn-Ruder-Verein Neuwied (GTRVN)
REFRESH-INTERVAL;VALUE=DURATION:PT1H
X-Robots-Tag:noindex
X-PUBLISHED-TTL:PT1H
BEGIN:VTIMEZONE
TZID:Europe/Berlin
BEGIN:DAYLIGHT
TZOFFSETFROM:+0100
TZOFFSETTO:+0200
TZNAME:CEST
DTSTART:20200329T010000
END:DAYLIGHT
BEGIN:STANDARD
TZOFFSETFROM:+0200
TZOFFSETTO:+0100
TZNAME:CET
DTSTART:20201025T010000
END:STANDARD
BEGIN:DAYLIGHT
TZOFFSETFROM:+0100
TZOFFSETTO:+0200
TZNAME:CEST
DTSTART:20210328T010000
END:DAYLIGHT
BEGIN:STANDARD
TZOFFSETFROM:+0200
TZOFFSETTO:+0100
TZNAME:CET
DTSTART:20211031T010000
END:STANDARD
BEGIN:DAYLIGHT
TZOFFSETFROM:+0100
TZOFFSETTO:+0200
TZNAME:CEST
DTSTART:20220327T010000
END:DAYLIGHT
BEGIN:STANDARD
TZOFFSETFROM:+0200
TZOFFSETTO:+0100
TZNAME:CET
DTSTART:20221030T010000
END:STANDARD
END:VTIMEZONE
BEGIN:VEVENT
DTSTART;TZID=Europe/Berlin:20210608T160000
DTEND;TZID=Europe/Berlin:20210608T190000
DTSTAMP:20260421T000237
CREATED:20210606T094352Z
LAST-MODIFIED:20210606T095806Z
UID:1377-1623168000-1623178800@gtrvn.de
SUMMARY:Kinderrudern in Altwied
DESCRIPTION:In Altwied findet die Ruderausbildung für Kinder im Alter von 10- 14 Jahren statt. \nTreffpunkt ist jeden Dienstag zwischen 16:00 und 19:00 Uhr. Teilnahme ist nur nach vorheriger Anmeldung bei Ralf Schulte-Melchior möglich (altwied@gtrvn.de).
URL:https://gtrvn.de/event/kinderrudern-in-altwied/
ATTACH;FMTTYPE=image/jpeg:https://gtrvn.de/wp-content/uploads/2021/03/P1120539-002.jpg
END:VEVENT
BEGIN:VEVENT
DTSTART;TZID=Europe/Berlin:20210609T180000
DTEND;TZID=Europe/Berlin:20210609T200000
DTSTAMP:20260421T000237
CREATED:20210606T100654Z
LAST-MODIFIED:20210606T100654Z
UID:1456-1623261600-1623268800@gtrvn.de
SUMMARY:Allgemeiner Rudertermin
DESCRIPTION:Hier finden sich Erwachsene und Jugendliche ein\, die sich dann in verschiedensten Mannschaften und Bootsklassen zusammenfinden und auf Wasser gehen.\nDer Schwerpunkt liegt bei diesen Terminen auf dem Erwachsenen-Breitensport.\nAber es bilden sich auch Mannschaften\, die mehr leistungsorientiert rudern wollen.
URL:https://gtrvn.de/event/allgemeiner-rudertermin/
ATTACH;FMTTYPE=image/jpeg:https://gtrvn.de/wp-content/uploads/2020/08/Leverkusen2020_Abfahrt.jpg
END:VEVENT
BEGIN:VEVENT
DTSTART;TZID=Europe/Berlin:20210610T080000
DTEND;TZID=Europe/Berlin:20210610T170000
DTSTAMP:20260421T000237
CREATED:20210606T100157Z
LAST-MODIFIED:20210606T100157Z
UID:1436-1623312000-1623344400@gtrvn.de
SUMMARY:Kinderrudern in Altwied
DESCRIPTION:In Altwied findet die Ruderausbildung für Kinder im Alter von 10- 14 Jahren statt. \nTreffpunkt ist jeden Donnerstag zwischen 16:00 und 18:00 Uhr. Teilnahme ist nur nach vorheriger Anmeldung bei Ralf Schulte-Melchior möglich (altwied@gtrvn.de).
URL:https://gtrvn.de/event/kinderrudern-in-altwied-2/
ATTACH;FMTTYPE=image/jpeg:https://gtrvn.de/wp-content/uploads/2021/03/P1120197-002-scaled.jpg
END:VEVENT
END:VCALENDAR