BEGIN:VCALENDAR
VERSION:2.0
PRODID:-//Gymnasial-Turn-Ruder-Verein Neuwied (GTRVN) - ECPv6.15.20//NONSGML v1.0//EN
CALSCALE:GREGORIAN
METHOD:PUBLISH
X-ORIGINAL-URL:https://gtrvn.de
X-WR-CALDESC:Veranstaltungen für Gymnasial-Turn-Ruder-Verein Neuwied (GTRVN)
REFRESH-INTERVAL;VALUE=DURATION:PT1H
X-Robots-Tag:noindex
X-PUBLISHED-TTL:PT1H
BEGIN:VTIMEZONE
TZID:Europe/Berlin
BEGIN:DAYLIGHT
TZOFFSETFROM:+0100
TZOFFSETTO:+0200
TZNAME:CEST
DTSTART:20230326T010000
END:DAYLIGHT
BEGIN:STANDARD
TZOFFSETFROM:+0200
TZOFFSETTO:+0100
TZNAME:CET
DTSTART:20231029T010000
END:STANDARD
BEGIN:DAYLIGHT
TZOFFSETFROM:+0100
TZOFFSETTO:+0200
TZNAME:CEST
DTSTART:20240331T010000
END:DAYLIGHT
BEGIN:STANDARD
TZOFFSETFROM:+0200
TZOFFSETTO:+0100
TZNAME:CET
DTSTART:20241027T010000
END:STANDARD
BEGIN:DAYLIGHT
TZOFFSETFROM:+0100
TZOFFSETTO:+0200
TZNAME:CEST
DTSTART:20250330T010000
END:DAYLIGHT
BEGIN:STANDARD
TZOFFSETFROM:+0200
TZOFFSETTO:+0100
TZNAME:CET
DTSTART:20251026T010000
END:STANDARD
END:VTIMEZONE
BEGIN:VEVENT
DTSTART;VALUE=DATE:20241109
DTEND;VALUE=DATE:20241110
DTSTAMP:20260422T140831
CREATED:20240303T212148Z
LAST-MODIFIED:20241017T091922Z
UID:3194-1731110400-1731196799@gtrvn.de
SUMMARY:Abrudern
DESCRIPTION:Strecke: von Boppard nach Neuwied \nTreffen am Bootshaus um 09:30 Uhr
URL:https://gtrvn.de/event/abrudern-5/
CATEGORIES:Fahrten
END:VEVENT
BEGIN:VEVENT
DTSTART;TZID=Europe/Berlin:20241116T100000
DTEND;TZID=Europe/Berlin:20241116T100000
DTSTAMP:20260422T140831
CREATED:20241017T093649Z
LAST-MODIFIED:20241017T095212Z
UID:3545-1731751200-1731751200@gtrvn.de
SUMMARY:Aktionstag
DESCRIPTION:Bootshalle und Gelände säubern\, Pritsche instandsetzen\, etc.
URL:https://gtrvn.de/event/aktionstag-2/
LOCATION:Bootshaus Neuwied\, Rheinstraße 54\, 56564 Neuwied\, Rheinland-Pfalz\, 56564\, Germany
END:VEVENT
BEGIN:VEVENT
DTSTART;TZID=Europe/Berlin:20241116T190000
DTEND;TZID=Europe/Berlin:20241116T190000
DTSTAMP:20260422T140831
CREATED:20241017T093252Z
LAST-MODIFIED:20241017T095145Z
UID:3543-1731783600-1731783600@gtrvn.de
SUMMARY:Saisonabschluss
DESCRIPTION:Ehrungen erfolgreicher Vereinsmitglieder in 2024
URL:https://gtrvn.de/event/saisonabschluss/
LOCATION:Bootshaus Neuwied\, Rheinstraße 54\, 56564 Neuwied\, Rheinland-Pfalz\, 56564\, Germany
END:VEVENT
BEGIN:VEVENT
DTSTART;VALUE=DATE:20241123
DTEND;VALUE=DATE:20241124
DTSTAMP:20260422T140831
CREATED:20240303T212331Z
LAST-MODIFIED:20240303T212331Z
UID:3196-1732320000-1732406399@gtrvn.de
SUMMARY:Herbst-Tour
DESCRIPTION:Programm: \n09:00 Uhr          Treffen am Bootshaus und Boote verladen\n11:00 Uhr          Ankunft in Boppard mit anschließendem zu Wasser gehen\n16:00 Uhr          Anlegen in Neuwied\n18:00 Uhr          Döppekuchenessen \nMeldeschluss:  19. November \nVerpflegung:     Bootsverpflegung selbst \nKosten:              ca. 10\,- € zzgl. Döppekuchen und Getränke \nFahrtenleiter:   Patrik Sassin – Ruderwart@GTRVN.de
URL:https://gtrvn.de/event/herbst-tour/
CATEGORIES:Fahrten
END:VEVENT
BEGIN:VEVENT
DTSTART;VALUE=DATE:20241129
DTEND;VALUE=DATE:20241202
DTSTAMP:20260422T140831
CREATED:20240304T065725Z
LAST-MODIFIED:20240304T065725Z
UID:3220-1732838400-1733097599@gtrvn.de
SUMMARY:DRV Langstrecke Dortmund
DESCRIPTION:
URL:https://gtrvn.de/event/drv-langstrecke-dortmund/
CATEGORIES:Regatta
END:VEVENT
END:VCALENDAR